BEGIN:VCALENDAR
VERSION:2.0
PRODID:DPCALENDAR
CALSCALE:GREGORIAN
X-WR-TIMEZONE:UTC
BEGIN:VEVENT
DTSTART:20140920T190000Z
DTEND:20140920T230000Z
UID:52d0646f95c9b6c0c15e4acb6e7e9d8d
SUMMARY:Diamonds Explosion 3
DTSTAMP:20140825T133755Z
DESCRIPTION:\NPozývame Vás už na tretí DIAMONDS EXPLOSION do Čadce.\N\N\NDátum: sob. 20 sep, 2014\NČas: 19:00 - 23:00\NMesto: Čadca\NMiesto: Mestská športová hala Čadca\NOrganizátor: Diamond Gym Žilina\N\NVIP stoly: Áno\NVIP vstup: Nie\NParkovanie: Áno\NPredzápasy: Áno\NPredpredaj: Áno\N\N\NCena v predpredaji: 12€\NCena na mieste: 15€\NCena VIP: 250€\N\N
X-ALT-DESC;FMTTYPE=text/html:<div class="itemIntroText"><p>Pozývame Vás už na tretí DIAMONDS EXPLOSION do Čadce.</p></div><div class="itemFullText"><div class="atomic"><span class="label">Dátum:</span> sob. 20 sep, 2014</div><div class="atomic"><span class="label">Čas:</span> 19:00 - 23:00</div><div class="atomic"><span class="label">Mesto:</span> Čadca</div><div class="atomic"><span class="label">Miesto:</span> <a href="http://www.fightnews.sk/kalendar/location/27-mestska-sportova-hala">Mestská športová hala Čadca</a></div><div class="atomic"><span class="label">Organizátor:</span> Diamond Gym Žilina</div><div class="jcl_event_middle jcl_middle"><div class="atomic"><span class="label">VIP stoly:</span> Áno</div><div class="atomic"><span class="label">VIP vstup:</span> Nie</div><div class="atomic"><span class="label">Parkovanie:</span> Áno</div><div class="atomic"><span class="label">Predzápasy:</span> Áno</div><div class="atomic"><span class="label">Predpredaj:</span> Áno</div></div><div class="jcl_event_right jcl_right"><div class="atomic"><span class="label">Cena v predpredaji:</span> 12€</div><div class="atomic"><span class="label">Cena na mieste:</span> 15€</div><div class="atomic"><span class="label">Cena VIP:</span> 250€</div></div></div>
LOCATION:Športovcov, 022 01 Čadca, Slovensko
GEO:49.4393;18.7767
X-ACCESS:1
X-MODIFIED:20140825T133902Z
X-HITS:30
X-URL:
X-COLOR:FF0F0F
END:VEVENT
END:VCALENDAR